BEGIN:VCALENDAR
VERSION:2.0
PRODID:-//Pillar Seminary - ECPv6.15.20//NONSGML v1.0//EN
CALSCALE:GREGORIAN
METHOD:PUBLISH
X-WR-CALNAME:Pillar Seminary
X-ORIGINAL-URL:https://pillarseminary.org
X-WR-CALDESC:Events for Pillar Seminary
REFRESH-INTERVAL;VALUE=DURATION:PT1H
X-Robots-Tag:noindex
X-PUBLISHED-TTL:PT1H
BEGIN:VTIMEZONE
TZID:America/Chicago
BEGIN:DAYLIGHT
TZOFFSETFROM:-0600
TZOFFSETTO:-0500
TZNAME:CDT
DTSTART:20250309T080000
END:DAYLIGHT
BEGIN:STANDARD
TZOFFSETFROM:-0500
TZOFFSETTO:-0600
TZNAME:CST
DTSTART:20251102T070000
END:STANDARD
BEGIN:DAYLIGHT
TZOFFSETFROM:-0600
TZOFFSETTO:-0500
TZNAME:CDT
DTSTART:20260308T080000
END:DAYLIGHT
BEGIN:STANDARD
TZOFFSETFROM:-0500
TZOFFSETTO:-0600
TZNAME:CST
DTSTART:20261101T070000
END:STANDARD
BEGIN:DAYLIGHT
TZOFFSETFROM:-0600
TZOFFSETTO:-0500
TZNAME:CDT
DTSTART:20270314T080000
END:DAYLIGHT
BEGIN:STANDARD
TZOFFSETFROM:-0500
TZOFFSETTO:-0600
TZNAME:CST
DTSTART:20271107T070000
END:STANDARD
END:VTIMEZONE
BEGIN:VEVENT
DTSTART;TZID=America/Chicago:20260430T133000
DTEND;TZID=America/Chicago:20260430T200000
DTSTAMP:20260425T165730
CREATED:20250130T203716Z
LAST-MODIFIED:20260330T151131Z
UID:5287-1777555800-1777579200@pillarseminary.org
SUMMARY:Pillar Seminary Golf Classic 2026
DESCRIPTION:Support Pillar Seminary by participating in our Pillar Seminary Golf Classic & Auction on Thursday\, April 30\, 2026 in Arlington\, Texas at the Tierra Verde Golf Club. It’s going to be a fun event with contests and giveaways! Lunch and dinner is included. Sign up individually or with a team. \nIf you aren’t a golfer or can’t make the event\, you can still participate by being a sponsor or a volunteer or donating and bidding on auction items. Sponsorship levels start as low as $175. They’re a great way to support the ongoing ministry of Pillar Seminary while having your business promoted on our website and at the event. A big THANK YOU to The Emerald Escape on 30A for being a Silver Sponsor. \nReach out to Lauren Lowery at advancement@pillarseminary.org or 402-807-3060 with any questions. \nClick the registration button below to sign up to be a sponsor or a player.
URL:https://pillarseminary.org/event/pillar-seminary-golf-classic-2026/
LOCATION:Tierra Verde Golf Club\, 7005 Golf Club Drive\, Arlington\, Texas\, 76001
ATTACH;FMTTYPE=image/jpeg:https://pillarseminary.org/wp-content/uploads/2023/03/Tierra-Verde-Hole-3.jpg
END:VEVENT
END:VCALENDAR